BEGIN:VCALENDAR
VERSION:2.0
PRODID:-//Council on Developmental Disabilities - ECPv6.15.19//NONSGML v1.0//EN
CALSCALE:GREGORIAN
METHOD:PUBLISH
X-WR-CALNAME:Council on Developmental Disabilities
X-ORIGINAL-URL:https://icdd.idaho.gov
X-WR-CALDESC:Events for Council on Developmental Disabilities
REFRESH-INTERVAL;VALUE=DURATION:PT1H
X-Robots-Tag:noindex
X-PUBLISHED-TTL:PT1H
BEGIN:VTIMEZONE
TZID:America/Boise
BEGIN:DAYLIGHT
TZOFFSETFROM:-0700
TZOFFSETTO:-0600
TZNAME:MDT
DTSTART:20240310T090000
END:DAYLIGHT
BEGIN:STANDARD
TZOFFSETFROM:-0600
TZOFFSETTO:-0700
TZNAME:MST
DTSTART:20241103T080000
END:STANDARD
BEGIN:DAYLIGHT
TZOFFSETFROM:-0700
TZOFFSETTO:-0600
TZNAME:MDT
DTSTART:20250309T090000
END:DAYLIGHT
BEGIN:STANDARD
TZOFFSETFROM:-0600
TZOFFSETTO:-0700
TZNAME:MST
DTSTART:20251102T080000
END:STANDARD
BEGIN:DAYLIGHT
TZOFFSETFROM:-0700
TZOFFSETTO:-0600
TZNAME:MDT
DTSTART:20260308T090000
END:DAYLIGHT
BEGIN:STANDARD
TZOFFSETFROM:-0600
TZOFFSETTO:-0700
TZNAME:MST
DTSTART:20261101T080000
END:STANDARD
END:VTIMEZONE
BEGIN:VEVENT
DTSTART;VALUE=DATE:20251104
DTEND;VALUE=DATE:20251105
DTSTAMP:20260424T205931
CREATED:20251008T182220Z
LAST-MODIFIED:20251008T182220Z
UID:4236-1762214400-1762300799@icdd.idaho.gov
SUMMARY:Election Day
DESCRIPTION:
URL:https://icdd.idaho.gov/event/election-day/
CATEGORIES:Event
END:VEVENT
BEGIN:VEVENT
DTSTART;TZID=America/Boise:20251111T080000
DTEND;TZID=America/Boise:20251111T170000
DTSTAMP:20260424T205931
CREATED:20251008T171106Z
LAST-MODIFIED:20251008T171106Z
UID:4198-1762848000-1762880400@icdd.idaho.gov
SUMMARY:Veterans Day-DD Council Office closed
DESCRIPTION:Our office will be closed in observance of Veterans Day.
URL:https://icdd.idaho.gov/event/veterans-day-dd-council-office-closed/
CATEGORIES:Event,Holiday
END:VEVENT
BEGIN:VEVENT
DTSTART;TZID=America/Boise:20251114T080000
DTEND;TZID=America/Boise:20251115T170000
DTSTAMP:20260424T205931
CREATED:20251008T175911Z
LAST-MODIFIED:20251008T175911Z
UID:4222-1763107200-1763226000@icdd.idaho.gov
SUMMARY:United We Make Change - Conference
DESCRIPTION:Disability Information and Resource Conference\n\n\n\n\n\n\n\nNovember 14 &15\, 2025 \nBest Western Plus Burley Inn\, Burley ID \nSponsored by The Idaho Council on Developmental Disabilities\, Idaho Parents Unlimited\, and Community Council of Idaho
URL:https://icdd.idaho.gov/event/united-we-make-change-conference/
LOCATION:Best Western Plus Burley Inn\, 800 N Overland Ave\, Burley\, ID\, 83318\, United States
CATEGORIES:Event
END:VEVENT
BEGIN:VEVENT
DTSTART;TZID=America/Boise:20251127T080000
DTEND;TZID=America/Boise:20251127T170000
DTSTAMP:20260424T205931
CREATED:20251008T171305Z
LAST-MODIFIED:20251008T171305Z
UID:4200-1764230400-1764262800@icdd.idaho.gov
SUMMARY:Thanksgiving-DD Council Office Closed
DESCRIPTION:
URL:https://icdd.idaho.gov/event/thanksgiving-dd-council-office-closed/
CATEGORIES:Event,Holiday
END:VEVENT
END:VCALENDAR