BEGIN:VCALENDAR
VERSION:2.0
PRODID:-//Council on Developmental Disabilities - ECPv6.15.19//NONSGML v1.0//EN
CALSCALE:GREGORIAN
METHOD:PUBLISH
X-WR-CALNAME:Council on Developmental Disabilities
X-ORIGINAL-URL:https://icdd.idaho.gov
X-WR-CALDESC:Events for Council on Developmental Disabilities
REFRESH-INTERVAL;VALUE=DURATION:PT1H
X-Robots-Tag:noindex
X-PUBLISHED-TTL:PT1H
BEGIN:VTIMEZONE
TZID:America/Boise
BEGIN:DAYLIGHT
TZOFFSETFROM:-0700
TZOFFSETTO:-0600
TZNAME:MDT
DTSTART:20250309T090000
END:DAYLIGHT
BEGIN:STANDARD
TZOFFSETFROM:-0600
TZOFFSETTO:-0700
TZNAME:MST
DTSTART:20251102T080000
END:STANDARD
BEGIN:DAYLIGHT
TZOFFSETFROM:-0700
TZOFFSETTO:-0600
TZNAME:MDT
DTSTART:20260308T090000
END:DAYLIGHT
BEGIN:STANDARD
TZOFFSETFROM:-0600
TZOFFSETTO:-0700
TZNAME:MST
DTSTART:20261101T080000
END:STANDARD
BEGIN:DAYLIGHT
TZOFFSETFROM:-0700
TZOFFSETTO:-0600
TZNAME:MDT
DTSTART:20270314T090000
END:DAYLIGHT
BEGIN:STANDARD
TZOFFSETFROM:-0600
TZOFFSETTO:-0700
TZNAME:MST
DTSTART:20271107T080000
END:STANDARD
END:VTIMEZONE
BEGIN:VEVENT
DTSTART;TZID=America/Boise:20260101T080000
DTEND;TZID=America/Boise:20260101T170000
DTSTAMP:20260424T074957
CREATED:20251008T171627Z
LAST-MODIFIED:20251008T171715Z
UID:4204-1767254400-1767286800@icdd.idaho.gov
SUMMARY:Office Closed - New Year's Day.
DESCRIPTION:Our Office will be closed in observance of New Years day.
URL:https://icdd.idaho.gov/event/office-closed-new-years-day/
CATEGORIES:Event,Holiday
END:VEVENT
BEGIN:VEVENT
DTSTART;TZID=America/Boise:20260119T080000
DTEND;TZID=America/Boise:20260119T170000
DTSTAMP:20260424T074957
CREATED:20251008T171937Z
LAST-MODIFIED:20251008T171937Z
UID:4206-1768809600-1768842000@icdd.idaho.gov
SUMMARY:Martin Luther King Day-DD Council Office closed
DESCRIPTION:Office is closed in observance of Martin Luther King Day
URL:https://icdd.idaho.gov/event/martin-luther-king-day-dd-council-office-closed/
CATEGORIES:Event,Holiday
END:VEVENT
BEGIN:VEVENT
DTSTART;TZID=America/Boise:20260122T080000
DTEND;TZID=America/Boise:20260122T170000
DTSTAMP:20260424T074957
CREATED:20251008T181346Z
LAST-MODIFIED:20251008T182604Z
UID:4227-1769068800-1769101200@icdd.idaho.gov
SUMMARY:2026 Winter Quarterly Meeting – Day 1
DESCRIPTION:DD Council Quarterly Meeting\nJanuary 22 & 23\, 2026 — 9:00 a.m. – 4:30 p.m. MDT \nPhysical Location:\nJoe R. Williams – East Conference Room\n700 W. State St.\, Boise\, ID 83702 \nTo promote government transparency and provide the public with easy access to meeting agendas and minutes\, the Idaho Council on Developmental Disabilities posts meeting notices on the Idaho Public Meetings website\, Townhall Idaho.
URL:https://icdd.idaho.gov/event/2026-spring-quarterly-meeting-day-1/
LOCATION:Joe R. Williams (JRW)\, First Floor\, East Conference Room\, 700 W. State St.\, Boise\, ID\, 83702\, United States
CATEGORIES:Event,Meetings
END:VEVENT
BEGIN:VEVENT
DTSTART;TZID=America/Boise:20260123T080000
DTEND;TZID=America/Boise:20260123T170000
DTSTAMP:20260424T074957
CREATED:20251008T182005Z
LAST-MODIFIED:20251008T182326Z
UID:4234-1769155200-1769187600@icdd.idaho.gov
SUMMARY:2026 Winter Quarterly Meeting – Day 2
DESCRIPTION:DD Council Quarterly Meeting\nJanuary 22 & 23\, 2026 — 9:00 a.m. – 4:30 p.m. MDT \nPhysical Location:\nJoe R. Williams – East Conference Room\n700 W. State St.\, Boise\, ID 83702 \nTo promote government transparency and provide the public with easy access to meeting agendas and minutes\, the Idaho Council on Developmental Disabilities posts meeting notices on the Idaho Public Meetings website\, Townhall Idaho.
URL:https://icdd.idaho.gov/event/2026-spring-quarterly-meeting-day-2/
LOCATION:Joe R. Williams (JRW)\, First Floor\, East Conference Room\, 700 W. State St.\, Boise\, ID\, 83702\, United States
CATEGORIES:Event,Meetings
END:VEVENT
END:VCALENDAR